BEGIN:VCALENDAR
VERSION:2.0
PRODID:-//PIXEL - ECPv5.10.0//NONSGML v1.0//EN
CALSCALE:GREGORIAN
METHOD:PUBLISH
X-WR-CALNAME:PIXEL
X-ORIGINAL-URL:https://pixel-ports.eu
X-WR-CALDESC:Events for PIXEL
BEGIN:VTIMEZONE
TZID:Europe/Madrid
BEGIN:DAYLIGHT
TZOFFSETFROM:+0100
TZOFFSETTO:+0200
TZNAME:CEST
DTSTART:20200329T010000
END:DAYLIGHT
BEGIN:STANDARD
TZOFFSETFROM:+0200
TZOFFSETTO:+0100
TZNAME:CET
DTSTART:20201025T010000
END:STANDARD
END:VTIMEZONE
BEGIN:VEVENT
DTSTART;VALUE=DATE:20200915
DTEND;VALUE=DATE:20200916
DTSTAMP:20260424T034206
CREATED:20200910T100239Z
LAST-MODIFIED:20201019T094802Z
UID:1660-1600128000-1600214399@pixel-ports.eu
SUMMARY:The Operational Research Society - Sustainable Maritime Operations Stream
DESCRIPTION:How does OR promote the sustainability of maritime operations?\n14:30 – 15:30 | Tuesday 15 September 2020 \nThis session\, featuring the EU-funded projects PortForward\, COREALIS\, and PIXEL\, will discuss the topic at length. Funded by the European Union’s H2020 programme for research and innovation\, these projects are part of the “Ports of the Future Network”\, whose primary aim is to identify and define the key concepts of the ports of the future. \nEach of the talks in the session will present an innovative tool that uses OR techniques to address topics such as sustainable container terminal operations\, multimodal transport planning by considering traffic efficiency and environmental challenges\, and long-term port supply chain planning. \nSupply Chain Modelling as a Transversal Tool: the Port Activity Scenario Model\nThe PIXEL Consortium has been working on the definition and implementation of a tool to represent a port’s supply chain. This work\, aimed at improving the energy efficiency in one of the project pilots\, has driven the Consortium to realise the importance of simulation scenarios for port planning. \nIn this talk\, presented by Erwan Simon (CATIE)\, we will discuss how the developments in PIXEL can be leveraged by the port community for better planning and productivity\, and provide examples of usage and potential future perspectives. \nThe whole video presentation is available here \nThe extract with the PIXEL participation is available here at our Youtube channel \nThe slides for the PIXEL presentation are available here
URL:https://pixel-ports.eu/?tribe_events=the-operational-research-society-sustainable-maritime-operations-stream
LOCATION:Online
END:VEVENT
END:VCALENDAR